BEGIN:VCALENDAR
VERSION:2.0
PRODID:-//Cathedral Concerts - ECPv6.15.18//NONSGML v1.0//EN
CALSCALE:GREGORIAN
METHOD:PUBLISH
X-ORIGINAL-URL:https://cathedralconcerts.org
X-WR-CALDESC:Events for Cathedral Concerts
REFRESH-INTERVAL;VALUE=DURATION:PT1H
X-Robots-Tag:noindex
X-PUBLISHED-TTL:PT1H
BEGIN:VTIMEZONE
TZID:America/Chicago
BEGIN:DAYLIGHT
TZOFFSETFROM:-0600
TZOFFSETTO:-0500
TZNAME:CDT
DTSTART:20180311T080000
END:DAYLIGHT
BEGIN:STANDARD
TZOFFSETFROM:-0500
TZOFFSETTO:-0600
TZNAME:CST
DTSTART:20181104T070000
END:STANDARD
BEGIN:DAYLIGHT
TZOFFSETFROM:-0600
TZOFFSETTO:-0500
TZNAME:CDT
DTSTART:20190310T080000
END:DAYLIGHT
BEGIN:STANDARD
TZOFFSETFROM:-0500
TZOFFSETTO:-0600
TZNAME:CST
DTSTART:20191103T070000
END:STANDARD
BEGIN:DAYLIGHT
TZOFFSETFROM:-0600
TZOFFSETTO:-0500
TZNAME:CDT
DTSTART:20200308T080000
END:DAYLIGHT
BEGIN:STANDARD
TZOFFSETFROM:-0500
TZOFFSETTO:-0600
TZNAME:CST
DTSTART:20201101T070000
END:STANDARD
END:VTIMEZONE
BEGIN:VEVENT
DTSTART;TZID=America/Chicago:20191029T200000
DTEND;TZID=America/Chicago:20191029T220000
DTSTAMP:20260424T070949
CREATED:20190604T153914Z
LAST-MODIFIED:20191029T215821Z
UID:8063-1572379200-1572386400@cathedralconcerts.org
SUMMARY:The Four Italian Tenors
DESCRIPTION:Tickets available at the door beginning at 7:00pmTuesday\, October 29 at 8:00pm\nSECTIONS 1 & 2 are SOLD OUT\nDirect from Rome\, Italy\nFor the first time in the United States\, the Four Italian Tenors: Alessandro D’Acrissa\, Federico Serra\, Federico Parisi\, and Giovanni Maria Palmia perform the greatest Sacred Tenor Arias and Songs of all time in wonderful unique arrangements created for this concert at the Cathedral on their U.S. Debut Tour. \nSACRED ARIAS PROGRAM / USA TOUR 2019 (Subject to Change) \nSCHUBERT: “Ave Maria”\nBELLINI: Messa in sol – “Quoniam cum sancto spiritu”\nHANDEL: “O Mio Signor”\nROSSINI: Missa Solemnelle – “Domine Deus”\nNIEDERMEYER: “Pietà Signore”\nMASCAGNI: “Sancta Maria”\nSCHUBERT: “Mille cherubini in coro”\nFRANCK: “Panis Angelicus”\nVERDI: Messa da Requiem – “Ingemisco”\nBIZET: “Agnus Dei”\nVIVALDI: Magnificat – “Fecit Potentiam”\nGOUNOD/BACH: “Ave Maria” \nLooking for diner before the concert?\nWhy not join us for an Italian “Family Style” Dinner at 5:30pm Dinner at Bar Italia Ristorante\nThis Italian “Family Style” dinner includes 3 appetizers\, homemade ciabatta\, salad\, 3 main dishes including a luscious cheese tortellini\, steak and chicken\, vegetables\, polenta\, and for dessert a fantastic tiramisu as well as soft drinks and iced tea. There will be a cash bar for those interested in wine or cocktails. \nPackage prices for concert ticket and dinner are:\nSection 1: $92\nSection 2: $79\nSection 3: $69 \nIf you already have tickets for the concert the dinner is just $50. \nWe will have reserved seating at the concert for those coming from the dinner\, and with the FREE valet parking there is no need to rush to the concert early. \nTo RSVP please call 314-533-7662 by October 21 to make your reservations.
URL:https://cathedralconcerts.org/event/the-four-italian-tenors/
LOCATION:Cathedral Basilica of St. Louis \, St. Louis\, Missouri
ATTACH;FMTTYPE=image/jpeg:https://cathedralconcerts.org/wp-content/uploads/2019/08/Italian-Tenors-for-slider-REVISED.jpg
END:VEVENT
END:VCALENDAR